BEGIN:VCALENDAR
VERSION:2.0
PRODID:-//Lions Gate Hospital Foundation - ECPv6.15.17.1//NONSGML v1.0//EN
CALSCALE:GREGORIAN
METHOD:PUBLISH
X-WR-CALNAME:Lions Gate Hospital Foundation
X-ORIGINAL-URL:https://lghfoundation.com
X-WR-CALDESC:Events for Lions Gate Hospital Foundation
REFRESH-INTERVAL;VALUE=DURATION:PT1H
X-Robots-Tag:noindex
X-PUBLISHED-TTL:PT1H
BEGIN:VTIMEZONE
TZID:America/Vancouver
BEGIN:DAYLIGHT
TZOFFSETFROM:-0800
TZOFFSETTO:-0700
TZNAME:PDT
DTSTART:20230312T100000
END:DAYLIGHT
BEGIN:STANDARD
TZOFFSETFROM:-0700
TZOFFSETTO:-0800
TZNAME:PST
DTSTART:20231105T090000
END:STANDARD
BEGIN:DAYLIGHT
TZOFFSETFROM:-0800
TZOFFSETTO:-0700
TZNAME:PDT
DTSTART:20240310T100000
END:DAYLIGHT
BEGIN:STANDARD
TZOFFSETFROM:-0700
TZOFFSETTO:-0800
TZNAME:PST
DTSTART:20241103T090000
END:STANDARD
BEGIN:DAYLIGHT
TZOFFSETFROM:-0800
TZOFFSETTO:-0700
TZNAME:PDT
DTSTART:20250309T100000
END:DAYLIGHT
BEGIN:STANDARD
TZOFFSETFROM:-0700
TZOFFSETTO:-0800
TZNAME:PST
DTSTART:20251102T090000
END:STANDARD
END:VTIMEZONE
BEGIN:VEVENT
DTSTART;TZID=America/Vancouver:20241205T190000
DTEND;TZID=America/Vancouver:20241205T200000
DTSTAMP:20260420T101723
CREATED:20250813T054323Z
LAST-MODIFIED:20250820T004033Z
UID:8132-1733425200-1733428800@lghfoundation.com
SUMMARY:32nd Annual Honour A Life
DESCRIPTION:32nd Annual Honour A Life				\n				\n				\n				\n							\n							\n											\n													\n										December 5\, 2024 at 7:00pm to 8:00pm\n									\n								\n											\n\n												\n													\n										Honour a Life Tree at Seawall Park on the West Vancouver Seawall (at the foot of 19th St.)\n											\n									\n						\n						\n				\n				\n		\n				\n				\n																														\n				\n				\n					\n				\n		\n					\n		\n				\n				\n									You’re invited to join us on December 5 at 7:00 p.m. for a non denominational celebration to honour the life of a loved one who has passed. The gathering will take place at The Honour a Life Tree at Seawall Park on the West Vancouver Seawall (at the foot of 19th St.) and will include placing memorial tree cards on the tree as well as hot chocolates and cookies. 								\n				\n				\n				\n									We hope to see you there! 								\n				\n				\n				\n									Location: Honour a Life Tree at Seawall Park on the West Vancouver Seawall (at the foot of 19th St.) 								\n				\n				\n				\n					\n	\n		\n\n	\n	Add to calendar	\n		\n	\n\n		\n			\n									\n	Google Calendar\n\n									\n	iCalendar\n\n									\n	Outlook 365\n\n									\n	Outlook Live
URL:https://lghfoundation.com/event/32nd-annual-honour-a-life/
LOCATION:Honour a Life Tree at Seawall Park on the West Vancouver Seawall (at the foot of 19th St.)
ATTACH;FMTTYPE=image/png:https://lghfoundation.com/wp-content/uploads/2025/08/Physicians-Gala-BANNER-1275-×-514-px-1-1024x413-1.png
END:VEVENT
END:VCALENDAR