BEGIN:VCALENDAR
VERSION:2.0
PRODID:-//Lions Gate Hospital Foundation - ECPv6.15.17.1//NONSGML v1.0//EN
CALSCALE:GREGORIAN
METHOD:PUBLISH
X-WR-CALNAME:Lions Gate Hospital Foundation
X-ORIGINAL-URL:https://lghfoundation.com
X-WR-CALDESC:Events for Lions Gate Hospital Foundation
REFRESH-INTERVAL;VALUE=DURATION:PT1H
X-Robots-Tag:noindex
X-PUBLISHED-TTL:PT1H
BEGIN:VTIMEZONE
TZID:America/Vancouver
BEGIN:DAYLIGHT
TZOFFSETFROM:-0800
TZOFFSETTO:-0700
TZNAME:PDT
DTSTART:20230312T100000
END:DAYLIGHT
BEGIN:STANDARD
TZOFFSETFROM:-0700
TZOFFSETTO:-0800
TZNAME:PST
DTSTART:20231105T090000
END:STANDARD
BEGIN:DAYLIGHT
TZOFFSETFROM:-0800
TZOFFSETTO:-0700
TZNAME:PDT
DTSTART:20240310T100000
END:DAYLIGHT
BEGIN:STANDARD
TZOFFSETFROM:-0700
TZOFFSETTO:-0800
TZNAME:PST
DTSTART:20241103T090000
END:STANDARD
BEGIN:DAYLIGHT
TZOFFSETFROM:-0800
TZOFFSETTO:-0700
TZNAME:PDT
DTSTART:20250309T100000
END:DAYLIGHT
BEGIN:STANDARD
TZOFFSETFROM:-0700
TZOFFSETTO:-0800
TZNAME:PST
DTSTART:20251102T090000
END:STANDARD
END:VTIMEZONE
BEGIN:VEVENT
DTSTART;TZID=America/Vancouver:20240819T103000
DTEND;TZID=America/Vancouver:20240819T200000
DTSTAMP:20260420T143724
CREATED:20250813T020906Z
LAST-MODIFIED:20250820T004650Z
UID:10000042-1724063400-1724097600@lghfoundation.com
SUMMARY:26th Annual Lions Gate Hospital Foundation Golf Classic
DESCRIPTION:26th Annual Lions Gate Hospital Foundation Golf Classic\n\n\nMay 20\, 2026 at 2:30pm to 3:30pm\n\nWest Vancouver Community Centre\n\n\n \nSince its beginning in 1996\, the Annual Golf Classic has raised more than $7.7 million to improve patient care at LGH. The tournament’s reputation as a first-class event hosted at an outstanding venue\, Capilano Golf Course & Country Club in West Vancouver\, attracts local business\, community leaders and golf enthusiasts alike. \nPlease contact us by email or call 604.984.5785 to learn more about this event.
URL:https://lghfoundation.com/event/26th-annual-lions-gate-hospital-foundation-golf-classic/
LOCATION:Capilano Golf and Country Club\, 420 Southborough Dr\, West Vancouver\, British Columbia\, V7S 1M2\, Canada
ATTACH;FMTTYPE=image/png:https://lghfoundation.com/wp-content/uploads/2024/08/Untitled-design-21.png
END:VEVENT
END:VCALENDAR