BEGIN:VCALENDAR
VERSION:2.0
PRODID:-//Lions Gate Hospital Foundation - ECPv6.15.17.1//NONSGML v1.0//EN
CALSCALE:GREGORIAN
METHOD:PUBLISH
X-WR-CALNAME:Lions Gate Hospital Foundation
X-ORIGINAL-URL:https://lghfoundation.com
X-WR-CALDESC:Events for Lions Gate Hospital Foundation
REFRESH-INTERVAL;VALUE=DURATION:PT1H
X-Robots-Tag:noindex
X-PUBLISHED-TTL:PT1H
BEGIN:VTIMEZONE
TZID:America/Vancouver
BEGIN:DAYLIGHT
TZOFFSETFROM:-0800
TZOFFSETTO:-0700
TZNAME:PDT
DTSTART:20240310T100000
END:DAYLIGHT
BEGIN:STANDARD
TZOFFSETFROM:-0700
TZOFFSETTO:-0800
TZNAME:PST
DTSTART:20241103T090000
END:STANDARD
BEGIN:DAYLIGHT
TZOFFSETFROM:-0800
TZOFFSETTO:-0700
TZNAME:PDT
DTSTART:20250309T100000
END:DAYLIGHT
BEGIN:STANDARD
TZOFFSETFROM:-0700
TZOFFSETTO:-0800
TZNAME:PST
DTSTART:20251102T090000
END:STANDARD
BEGIN:DAYLIGHT
TZOFFSETFROM:-0800
TZOFFSETTO:-0700
TZNAME:PDT
DTSTART:20260308T100000
END:DAYLIGHT
BEGIN:STANDARD
TZOFFSETFROM:-0700
TZOFFSETTO:-0800
TZNAME:PST
DTSTART:20261101T090000
END:STANDARD
END:VTIMEZONE
BEGIN:VEVENT
DTSTART;TZID=America/Vancouver:20250208T100000
DTEND;TZID=America/Vancouver:20250208T113000
DTSTAMP:20260420T052924
CREATED:20250813T065825Z
LAST-MODIFIED:20250820T003713Z
UID:10000055-1739008800-1739014200@lghfoundation.com
SUMMARY:A Glimpse Into Healthcare Careers: Neurosurgery
DESCRIPTION:A Glimpse Into Healthcare Careers: Neurosurgery\n\n\nMay 20\, 2026 at 2:30pm to 3:30pm\n\nWest Vancouver Community Centre\n\n\n \nA Session with LGH’s Head of Neurosurgery!\nJoin us at 10am on Saturday\, February 8th\, for a seminar that opens the door to a fascinating career in medicine and neurosurgery! Discover the world of neurosurgery\, connect with peers\, and gain leadership skills. Learn from industry experts as they share insights and inspiring stories to guide your future. Don’t miss this chance to take the first step toward a healthcare career! \n\nRegister\n \n$25 \n\nThe HOpe Centre \n1337 St Andrews Ave\, \nNorth Vancouver\,\nBritish Columbia\nV7L 3L4\nCanada\n+ Google Map \n  \n\n\n\n\nAdd to calendar \n \n\nGoogle Calendar\niCalendar\nOutlook 365\nOutlook Live
URL:https://lghfoundation.com/event/a-glimpse-into-healthcare-careers-neurosurgery/
LOCATION:The HOpe Centre\, 1337 St Andrews Ave\, North Vancouver\, British Columbia\, V7L 3L4\, Canada
ATTACH;FMTTYPE=image/jpeg:https://lghfoundation.com/wp-content/uploads/2025/08/Neurosurgery-for-webpage.jpg
END:VEVENT
END:VCALENDAR