BEGIN:VCALENDAR
VERSION:2.0
PRODID:-//Lions Gate Hospital Foundation - ECPv6.15.17.1//NONSGML v1.0//EN
CALSCALE:GREGORIAN
METHOD:PUBLISH
X-ORIGINAL-URL:https://lghfoundation.com
X-WR-CALDESC:Events for Lions Gate Hospital Foundation
REFRESH-INTERVAL;VALUE=DURATION:PT1H
X-Robots-Tag:noindex
X-PUBLISHED-TTL:PT1H
BEGIN:VTIMEZONE
TZID:America/Vancouver
BEGIN:DAYLIGHT
TZOFFSETFROM:-0800
TZOFFSETTO:-0700
TZNAME:PDT
DTSTART:20240310T100000
END:DAYLIGHT
BEGIN:STANDARD
TZOFFSETFROM:-0700
TZOFFSETTO:-0800
TZNAME:PST
DTSTART:20241103T090000
END:STANDARD
BEGIN:DAYLIGHT
TZOFFSETFROM:-0800
TZOFFSETTO:-0700
TZNAME:PDT
DTSTART:20250309T100000
END:DAYLIGHT
BEGIN:STANDARD
TZOFFSETFROM:-0700
TZOFFSETTO:-0800
TZNAME:PST
DTSTART:20251102T090000
END:STANDARD
BEGIN:DAYLIGHT
TZOFFSETFROM:-0800
TZOFFSETTO:-0700
TZNAME:PDT
DTSTART:20260308T100000
END:DAYLIGHT
BEGIN:STANDARD
TZOFFSETFROM:-0700
TZOFFSETTO:-0800
TZNAME:PST
DTSTART:20261101T090000
END:STANDARD
END:VTIMEZONE
BEGIN:VEVENT
DTSTART;TZID=America/Vancouver:20250129T120000
DTEND;TZID=America/Vancouver:20250129T140000
DTSTAMP:20260420T101611
CREATED:20250813T062140Z
LAST-MODIFIED:20250820T003825Z
UID:10000054-1738152000-1738159200@lghfoundation.com
SUMMARY:18th Annual North Shore Health Care Awards
DESCRIPTION:18th Annual North Shore Health Care Awards\n\n\nApril 20\, 2026 at 10:16am to 10:16am\n\nPaul Myers Tower\n\n\n \n\nPaul Myers Tower \n231 15th St E \nNorth Vancouver\,\nBritish Columbia\nV7L 2L7\nCanada\n+ Google Map \n  \n\n\n\n\nAdd to calendar \n \n\nGoogle Calendar\niCalendar\nOutlook 365\nOutlook Live
URL:https://lghfoundation.com/event/18th-annual-north-shore-health-care-awards/
LOCATION:Paul Myers Tower\, 231 15th St E\, North Vancouver\, British Columbia\, V7L 2L7\, Canada
ATTACH;FMTTYPE=image/png:https://lghfoundation.com/wp-content/uploads/2025/08/Copy-of-HCA-Website-Banner-2048x826-1.png
END:VEVENT
END:VCALENDAR